BEGIN:VCALENDAR
VERSION:2.0
PRODID:-//www.service-public.fr//Calendrier//FR
CALSCALE:GREGORIAN
METHOD:PUBLISH
BEGIN:VEVENT
DTSTAMP:20260424T033204Z
DTSTART:20260504T000100
DTEND:20260504T235959
TRANSP:OPAQUE
SUMMARY:Échanger un permis de conduire européen ou étranger contre un permis français devient payant
UID:716f9ae1-7f20-45d6-8f98-07514e614ca9
PRIORITY:5
BEGIN:VALARM
ACTION:DISPLAY
DESCRIPTION:Échanger un permis de conduire européen ou étranger contre un permis français devient payant
TRIGGER:-P2D
END:VALARM
END:VEVENT
END:VCALENDAR
