BEGIN:VCALENDAR
VERSION:2.0
PRODID:-//www.service-public.fr//Calendrier//FR
CALSCALE:GREGORIAN
METHOD:PUBLISH
BEGIN:VEVENT
DTSTAMP:20260424T064726Z
DTSTART:20260401T000100
DTEND:20260401T235959
TRANSP:OPAQUE
SUMMARY:La prime d’activité revalorisée au 1er avril
UID:3ff0b193-f0cb-487c-8819-f8ec1fcfd5d0
PRIORITY:5
BEGIN:VALARM
ACTION:DISPLAY
DESCRIPTION:La prime d’activité revalorisée au 1er avril
TRIGGER:-P2D
END:VALARM
END:VEVENT
END:VCALENDAR
