BEGIN:VCALENDAR
VERSION:2.0
PRODID:-//www.service-public.fr//Calendrier//FR
CALSCALE:GREGORIAN
METHOD:PUBLISH
BEGIN:VEVENT
DTSTAMP:20260424T165053Z
DTSTART:20260101T000100
DTEND:20260101T235959
TRANSP:OPAQUE
SUMMARY:Les nouvelles plaques d’immatriculation roses sont arrivées
UID:8d6a777b-ba30-4077-9452-8895474cc573
PRIORITY:5
BEGIN:VALARM
ACTION:DISPLAY
DESCRIPTION:Les nouvelles plaques d’immatriculation roses sont arrivées
TRIGGER:-P2D
END:VALARM
END:VEVENT
END:VCALENDAR
