BEGIN:VCALENDAR
VERSION:2.0
PRODID:-//www.service-public.fr//Calendrier//FR
CALSCALE:GREGORIAN
METHOD:PUBLISH
BEGIN:VEVENT
DTSTAMP:20260420T142734Z
DTSTART:20260101T000100
DTEND:20260101T235959
TRANSP:OPAQUE
SUMMARY:Les contrats entre marques et influenceurs plus encadrés dès 2026
UID:fe394ed0-1801-4bf7-84ed-a9f22b95a41a
PRIORITY:5
BEGIN:VALARM
ACTION:DISPLAY
DESCRIPTION:Les contrats entre marques et influenceurs plus encadrés dès 2026
TRIGGER:-P2D
END:VALARM
END:VEVENT
END:VCALENDAR
