BEGIN:VCALENDAR
VERSION:2.0
PRODID:-//www.service-public.fr//Calendrier//FR
CALSCALE:GREGORIAN
METHOD:PUBLISH
BEGIN:VEVENT
DTSTAMP:20260421T121158Z
DTSTART:20250301T000100
DTEND:20250301T235959
TRANSP:OPAQUE
SUMMARY:Billets d'avion : pourquoi les prix pourraient augmenter à partir de mars 2025 ?
UID:c4bcdaca-567c-4aea-bac4-7b0581b0f610
PRIORITY:5
BEGIN:VALARM
ACTION:DISPLAY
DESCRIPTION:Billets d'avion : pourquoi les prix pourraient augmenter à partir de mars 2025 ?
TRIGGER:-P2D
END:VALARM
END:VEVENT
END:VCALENDAR
