BEGIN:VCALENDAR
VERSION:2.0
PRODID:-//www.service-public.fr//Calendrier//FR
CALSCALE:GREGORIAN
METHOD:PUBLISH
BEGIN:VEVENT
DTSTAMP:20260420T095919Z
DTSTART:20241101T000100
DTEND:20241101T235959
TRANSP:OPAQUE
SUMMARY:Drépanocytose : le dépistage de la maladie pour les nouveau-nés à partir du 1er novembre
UID:874be283-b073-4cd0-b1d8-af1aa1f9e0e8
PRIORITY:5
BEGIN:VALARM
ACTION:DISPLAY
DESCRIPTION:Drépanocytose : le dépistage de la maladie pour les nouveau-nés à partir du 1er novembre
TRIGGER:-P2D
END:VALARM
END:VEVENT
END:VCALENDAR
