BEGIN:VCALENDAR
VERSION:2.0
PRODID:-//www.service-public.fr//Calendrier//FR
CALSCALE:GREGORIAN
METHOD:PUBLISH
BEGIN:VEVENT
DTSTAMP:20260424T062206Z
DTSTART:20240701T000100
DTEND:20240701T235959
TRANSP:OPAQUE
SUMMARY:Passoires thermiques : le DPE évolue au 1er juillet pour les petites surfaces
UID:fc39cd2a-435d-4a08-97c2-c02f3cff6c4f
PRIORITY:5
BEGIN:VALARM
ACTION:DISPLAY
DESCRIPTION:Passoires thermiques : le DPE évolue au 1er juillet pour les petites surfaces
TRIGGER:-P2D
END:VALARM
END:VEVENT
END:VCALENDAR
