BEGIN:VCALENDAR
VERSION:2.0
PRODID:-//www.service-public.fr//Calendrier//FR
CALSCALE:GREGORIAN
METHOD:PUBLISH
BEGIN:VEVENT
DTSTAMP:20260425T175155Z
DTSTART:20260401T000100
DTEND:20260401T235959
TRANSP:OPAQUE
SUMMARY:Prestations familiales et sociales : les nouveaux montants au 1er avril
UID:e4817060-01e8-43d2-af0c-b925d853ca58
PRIORITY:5
BEGIN:VALARM
ACTION:DISPLAY
DESCRIPTION:Prestations familiales et sociales : les nouveaux montants au 1er avril
TRIGGER:-P2D
END:VALARM
END:VEVENT
END:VCALENDAR
